BEGIN:VCALENDAR
VERSION:2.0
PRODID:-//ITALIQUE FORMATIONS - ECPv6.15.20//NONSGML v1.0//EN
CALSCALE:GREGORIAN
METHOD:PUBLISH
X-ORIGINAL-URL:https://italiqueformations.com
X-WR-CALDESC:Événements pour ITALIQUE FORMATIONS
REFRESH-INTERVAL;VALUE=DURATION:PT1H
X-Robots-Tag:noindex
X-PUBLISHED-TTL:PT1H
BEGIN:VTIMEZONE
TZID:UTC
BEGIN:STANDARD
TZOFFSETFROM:+0000
TZOFFSETTO:+0000
TZNAME:UTC
DTSTART:20250101T000000
END:STANDARD
END:VTIMEZONE
BEGIN:VEVENT
DTSTART;TZID=UTC:20260115T080000
DTEND;TZID=UTC:20260312T083000
DTSTAMP:20260422T223525
CREATED:20250919T145420Z
LAST-MODIFIED:20250919T145736Z
UID:57935-1768464000-1773304200@italiqueformations.com
SUMMARY:Cohorte virtuelle - hiver 2026
DESCRIPTION:FONCTIONNEMENT\n\nSéances virtuelles réparties sur 10 semaines.\nUne leçon différente par semaine.\nOfferte à raison d’une cohorte par saison.\n\n\nQUAND\n\nDu 15 janvier au 12 mars 2026\nLe jeudi matin\n\n\nDURÉE\n\n30 minutes par semaine!\nJeudi\, de 8 h à 8 h 30.\n\n\nINCLUSIONS\n\nThéorie\, tests de connaissances et exercices.\nCorrigés d’exercices et explications.\nCahiers d’exercices et de ressources.\n\n\nEN PRIME\n\nAccès à de l’accompagnement privé offert à tarif préférentiel.\nRabais de 15 % sur les produits Italique communications inc. et Italique formations\nPour un temps limité\, possibilité de reprendre les cours ratés en visionnant les capsules de rediffusion.\n\n\nCOÛT\n\n300 $ pour 10 semaines = 30 $ la leçon!\nPayable en un seul versement\, au début du cours.\n\n\nAPPRENANTS\n\nSeulement 6 apprenants par cohorte\nSolopreneurs\nEntrepreneurs\nOSBL\nEmployés stratégiques\nResponsables communication et marketing
URL:https://italiqueformations.com/formation/cohorte-virtuelle-hiver-2026/
LOCATION:Virtuel\, Québec\, Canada
CATEGORIES:Formation pratique virtuelle
ORGANIZER;CN="Marie-Claude Aspiros":MAILTO:marie-claude@italiqueformations.com
END:VEVENT
END:VCALENDAR