BEGIN:VCALENDAR
VERSION:2.0
PRODID:-//ITALIQUE FORMATIONS - ECPv6.15.20//NONSGML v1.0//EN
CALSCALE:GREGORIAN
METHOD:PUBLISH
X-ORIGINAL-URL:https://italiqueformations.com
X-WR-CALDESC:Événements pour ITALIQUE FORMATIONS
REFRESH-INTERVAL;VALUE=DURATION:PT1H
X-Robots-Tag:noindex
X-PUBLISHED-TTL:PT1H
BEGIN:VTIMEZONE
TZID:UTC
BEGIN:STANDARD
TZOFFSETFROM:+0000
TZOFFSETTO:+0000
TZNAME:UTC
DTSTART:20240101T000000
END:STANDARD
END:VTIMEZONE
BEGIN:VEVENT
DTSTART;TZID=UTC:20251121T080000
DTEND;TZID=UTC:20251121T120000
DTSTAMP:20260423T023549
CREATED:20250919T144916Z
LAST-MODIFIED:20250919T144916Z
UID:57930-1763712000-1763726400@italiqueformations.com
SUMMARY:Atelier : Transformez vos textes en outils marketing puissants
DESCRIPTION:FONCTIONNEMENT\n\nAtelier en présentiel\nTransmission vulgarisée et adaptée de la théorie\nDix leçons abordées durant l’atelier\nTests de connaissances\n\n\nINCLUSIONS\n\nCahier de l’apprenant\nTests de connaissances\nCahier d’exercices\nCahier de ressources\n\n\nEN PRIME\n\nAccès à de l’accompagnement privé offert à tarif préférentiel\nRabais de 15 % sur les produits Italique communications inc. et Italique formations\n\n\nCOÛT\n\n300 $ (plus taxes)\nPayable en un seul versement\, avant le début du cours\n\n\nAPPRENANTS\n\n8 apprenants par atelier\nSolopreneurs\nEntrepreneurs\nOSBL\nEmployés stratégiques\nResponsables communication et marketing
URL:https://italiqueformations.com/formation/atelier-transformez-vos-textes-en-outils-marketing-puissants/
LOCATION:Québec
CATEGORIES:Atelier en présentiel
ORGANIZER;CN="Marie-Claude Aspiros":MAILTO:marie-claude@italiqueformations.com
END:VEVENT
END:VCALENDAR